Workbook

Sheet Hướng dẫn
A1: HƯỚNG DẪN NHẬP DỮ LIỆU THỐNG KÊ
A3: 1. | B3: Đổi tên file TK-HKI-THCS.xls thành XÃ/PHƯỜNG - TÊNĐƠNVỊ-TK-HKI-THCS.xls
B4: Ví dụ: | C4: Trường THCS Huỳnh Thúc Kháng thì file này đổi tên là: THANHKHE-HUYNHTHUCKHANG-TK-HKI-THCS.xls
A5: 2. | B5: Nhập dữ liệu vào các ô màu xanh, không thay đổi được nội dung ở những ô khác.
A6: 3. | B6: Nhập xong gửi qua trao đổi nội bộ, (cô Hàn Thị Thanh Huyền - phòng GDTrH&HSSV nhận), trước ngày 15/01/2026
A7: 4. | B7: Nhập tên đơn vị, tên người nhập, người ký, ngày ký văn bản và số điện thoại người nhập vào các ô được tô màu xanh tương ứng:
C10: ="THỐNG KÊ HỌC KÌ I - NĂM HỌC "&C14 -> THỐNG KÊ HỌC KÌ I - NĂM HỌC 2025-2026
B12: Nhập tên đơn vị: | C12: Trường THCS Lý Tự Trọng
B13: Xã/Phường/Đặc khu | C13: Xã Tiên Phước
B14: Năm học: | C14: 2025-2026
B15: Người nhập: | C15: Lê Thị Hồng Vinh
B16: Người ký: | C16: Phạm Thị Túy Lanh
B17: Ngày ký: | C17: Tiên Phước, ngày 12 tháng 01 năm 2026
B18: Số điện thoại người nhập: | C18: 986803078
A36: Một số lưu ý cần thiết: 1. Chỉ nhập dữ liệu vào các vào các ô màu xanh. 2. Nộp báo cáo đã in theo đường Công văn. 3. Các Xã/phường/Đặc khu tổng hợp các file của các đơn vị và Gửi qua trao đổi nội bộ.

Sheet 1. Tình hình
A1: ="ỦY BAN NHÂN DÂN "&UPPER('Hướng dẫn'!C13) -> ỦY BAN NHÂN DÂN XÃ TIÊN PHƯỚC | E1: CỘNG HÒA XÃ HỘI CHỦ NGHĨA VIỆT NAM
A2: ='Hướng dẫn'!C12 -> Trường THCS Lý Tự Trọng | E2: Độc lập - Tự do - Hạnh phúc
A3: =============== | E3: ========================
A4: ="BÁO CÁO SƠ KẾT HỌC KÌ I "&'Hướng dẫn'!C14 -> BÁO CÁO SƠ KẾT HỌC KÌ I 2025-2026
A5: CẤP TRUNG HỌC CƠ SỞ
A6: I. Tình hình học sinh
A7: I.1. Số học sinh có mặt đến thời điểm báo cáo:
A9: Khối lớp | B9: Số học sinh | C9: Số lớp | D9: Trong đó
D10: HS nữ | E10: HS dân tộc | F10: HS khuyết tật
A11: 6 | B11: 211 | C11: 6 | D11: 97 | E11: 0 | F11: 5
A12: 7 | B12: 222 | C12: 6 | D12: 108 | E12: 0 | F12: 6
A13: 8 | B13: 245 | C13: 7 | D13: 114 | E13: 1 | F13: 4
A14: 9 | B14: 201 | C14: 6 | D14: 89 | E14: 0 | F14: 4
A15: Toàn trường | B15: =SUM(B11:B14) -> 879 | C15: =SUM(C11:C14) -> 25 | D15: =SUM(D11:D14) -> 408 | E15: =SUM(E11:E14) -> 1 | F15: =SUM(F11:F14) -> 19
A17: I.2. Thực hiện phân ban
A19: Khối lớp | B19: Ban KHTN | D19: Ban KHXH-NV | F19: Ban cơ bản
B20: Số HS | C20: Số lớp | D20: Số HS | E20: Số lớp | F20: Số HS | G20: Số lớp
A21: 10 | I21: =IF(B11=B21+D21+F21,"","Đối chiếu lại bảng I.1") -> Đối chiếu lại bảng I.1 | K21: =IF(B21+D21+F21=B11,B21+D21+F21, "Xem lại nhập số HS có mặt đến cuối HKI") -> Xem lại nhập số HS có mặt đến cuối HKI
A22: 11 | I22: =IF(B13=B22+D22+F22,"","Đối chiếu lại bảng I.1") -> Đối chiếu lại bảng I.1 | K22: =IF(B22+D22+F22=B13,B22+D22+F22, "Xem lại nhập số HS có mặt đến cuối HKI") -> Xem lại nhập số HS có mặt đến cuối HKI
A23: 12 | I23: =IF(B14=B23+D23+F23,"","Đối chiếu lại bảng I.1") -> Đối chiếu lại bảng I.1 | K23: =IF(B23+D23+F23=B14,B23+D23+F23, "Xem lại nhập số HS có mặt đến cuối HKI") -> Xem lại nhập số HS có mặt đến cuối HKI
A24: Toàn trường | B24: =SUM(B21:B23) -> 0 | C24: =SUM(C21:C23) -> 0 | D24: =SUM(D21:D23) -> 0 | E24: =SUM(E21:E23) -> 0 | F24: =SUM(F21:F23) -> 0 | G24: =SUM(G21:G23) -> 0 | I24: =IF(B15=B24+D24+F24,"","Đối chiếu lại bảng I.1") -> Đối chiếu lại bảng I.1 | K24: =IF(B24+D24+F24=B15,B24+D24+F24, "Xem lại nhập số HS có mặt đến cuối HKI") -> Xem lại nhập số HS có mặt đến cuối HKI
A26: 2. Số học sinh bỏ học
A28: Khối lớp | B28: Số HS đầu năm | C28: Số HS chuyển đến | D28: Số HS chuyển đi | E28: Số HS chuyển học nghề | F28: Số HS nghỉ học có lí do (đau ốm,…) | G28: Số HS bỏ học hẳn | H28: Vận động ra lớp | I28: Số HS cuối kì
A29: 6 | B29: 210 | C29: 1 | D29: 0 | E29: 0 | F29: 0 | G29: 0 | H29: 0 | I29: 211 | J29: =IF(I29=B11,"","Đối chiếu lại bảng I.1")
A30: 7 | B30: 221 | C30: 1 | D30: 0 | E30: 0 | F30: 0 | G30: 0 | H30: 0 | I30: 222
A31: 8 | B31: 245 | C31: 0 | D31: 0 | E31: 0 | F31: 0 | G31: 0 | H31: 0 | I31: 245
A32: 9 | B32: 202 | C32: 0 | D32: 0 | E32: 0 | F32: 0 | G32: 1 | H32: 0 | I32: 201 | J32: =IF(I32=B14,"","Đối chiếu lại bảng I.1")
A33: Toàn trường | B33: =SUM(B29:B32) -> 878 | C33: =SUM(C29:C32) -> 2 | D33: =SUM(D29:D32) -> 0 | E33: =SUM(E29:E32) -> 0 | F33: =SUM(F29:F32) -> 0 | G33: =SUM(G29:G32) -> 1 | I33: =SUM(I29:I32) -> 879 | J33: =IF(I33=B15,"","Đối chiếu lại bảng I.1")
G34: ='Hướng dẫn'!C17 -> Tiên Phước, ngày 12 tháng 01 năm 2026
B35: NGƯỜI LẬP BẢNG | G35: HIỆU TRƯỞNG
B40: ='Hướng dẫn'!C15 -> Lê Thị Hồng Vinh | G40: ='Hướng dẫn'!C16 -> Phạm Thị Túy Lanh

Sheet Rèn luyện-Học tập
A1: ='1. Tình hình'!A1 -> ỦY BAN NHÂN DÂN XÃ TIÊN PHƯỚC | F1: CỘNG HÒA XÃ HỘI CHỦ NGHĨA VIỆT NAM
A2: ='1. Tình hình'!A2 -> Trường THCS Lý Tự Trọng | F2: Độc lập - Tự do - Hạnh phúc
C3: =========== | F3: ====================
C4: ="NĂM HỌC "&'Hướng dẫn'!C14 -> NĂM HỌC 2025-2026
A6: II. Thống kê chất lượng rèn luyện - học tập:
A7: II.1. Kết quả rèn luyện:
B9: Khối lớp | C9: Tốt | E9: Khá | G9: Đạt | I9: Chưa đạt | L9: Tổng số HS
C10: Số HS | D10: % | E10: Số HS | F10: % | G10: Số HS | H10: % | I10: Số HS | J10: %
B11: 6 | C11: 207 | D11: =IF(C11="","",C11/$L11) -> 0.98104265 | E11: 4 | F11: =IF(E11="","",E11/$L11) -> 0.018957346 | G11: 0 | H11: =IF(G11="","",G11/$L11) -> 0 | I11: 0 | J11: =IF(I11="","",I11/$L11) -> 0 | L11: =C11+E11+G11+I11 -> 211
B12: 7 | C12: 219 | D12: =IF(C12="","",C12/$L12) -> 0.98648649 | E12: 3 | F12: =IF(E12="","",E12/$L12) -> 0.013513514 | G12: 0 | H12: =IF(G12="","",G12/$L12) -> 0 | I12: 0 | J12: =IF(I12="","",I12/$L12) -> 0 | L12: =C12+E12+G12+I12 -> 222
B13: 8 | C13: 237 | D13: =IF(C13="","",C13/$L13) -> 0.96734694 | E13: 8 | F13: =IF(E13="","",E13/$L13) -> 0.032653061 | G13: 0 | H13: =IF(G13="","",G13/$L13) -> 0 | I13: 0 | J13: =IF(I13="","",I13/$L13) -> 0 | L13: =C13+E13+G13+I13 -> 245
B14: 9 | C14: 197 | D14: =IF(C14="","",C14/$L14) -> 0.9800995 | E14: 4 | F14: =IF(E14="","",E14/$L14) -> 0.019900498 | G14: 0 | H14: =IF(G14="","",G14/$L14) -> 0 | I14: 0 | J14: =IF(I14="","",I14/$L14) -> 0 | L14: =C14+E14+G14+I14 -> 201
B15: Toàn trường | C15: =SUM(C11:C14) -> 860 | D15: =IF(C15=0,"",C15/$L15) -> 0.97838453 | E15: =SUM(E11:E14) -> 19 | F15: =IF(E15=0,"",E15/$L15) -> 0.021615472 | G15: =SUM(G11:G14) -> 0 | H15: =IF(G15=0,"",G15/$L15) | I15: =SUM(I11:I14) -> 0 | J15: =IF(I15=0,"",I15/$L15) | L15: =C15+E15+G15+I15 -> 879
A17: II.2. Kết quả học tập:
A19: Khối lớp | B19: Tốt | D19: Khá | F19: Đạt | H19: Chưa đạt | L19: Tổng số HS
B20: Số HS | C20: % | D20: Số HS | E20: % | F20: Số HS | G20: % | H20: Số HS | I20: %
A21: 6 | B21: 60 | C21: =IF(B21="","",B21/$L21) -> 0.28436019 | D21: 67 | E21: =IF(D21="","",D21/$L21) -> 0.31753555 | F21: 63 | G21: =IF(F21="","",F21/$L21) -> 0.2985782 | H21: 21 | I21: =IF(H21="","",H21/$L21) -> 0.099526066 | L21: =B21+D21+F21+H21+J21 -> 211 | M21: =IF(L11=L21,"","Đối chiếu lại tổng số ở bảng xếp loại hạnh kiểm")
A22: 7 | B22: 64 | C22: =IF(B22="","",B22/$L22) -> 0.28828829 | D22: 82 | E22: =IF(D22="","",D22/$L22) -> 0.36936937 | F22: 59 | G22: =IF(F22="","",F22/$L22) -> 0.26576577 | H22: 17 | I22: =IF(H22="","",H22/$L22) -> 0.076576577 | L22: =B22+D22+F22+H22+J22 -> 222 | M22: =IF(L12=L22,"","Đối chiếu lại tổng số ở bảng xếp loại hạnh kiểm")
A23: 8 | B23: 70 | C23: =IF(B23="","",B23/$L23) -> 0.28571429 | D23: 81 | E23: =IF(D23="","",D23/$L23) -> 0.33061224 | F23: 76 | G23: =IF(F23="","",F23/$L23) -> 0.31020408 | H23: 18 | I23: =IF(H23="","",H23/$L23) -> 0.073469388 | L23: =B23+D23+F23+H23+J23 -> 245 | M23: =IF(L13=L23,"","Đối chiếu lại tổng số ở bảng xếp loại hạnh kiểm")
A24: 9 | B24: 65 | C24: =IF(B24="","",B24/$L24) -> 0.32338308 | D24: 63 | E24: =IF(D24="","",D24/$L24) -> 0.31343284 | F24: 60 | G24: =IF(F24="","",F24/$L24) -> 0.29850746 | H24: 13 | I24: =IF(H24="","",H24/$L24) -> 0.064676617 | L24: =B24+D24+F24+H24+J24 -> 201 | M24: =IF(L14=L24,"","Đối chiếu lại tổng số ở bảng xếp loại hạnh kiểm")
A25: Toàn trường | B25: =SUM(B21:B24) -> 259 | C25: =IF(B25=0,"",B25/$L25) -> 0.29465301 | D25: =SUM(D21:D24) -> 293 | E25: =IF(D25=0,"",D25/$L25) -> 0.33333333 | F25: =SUM(F21:F24) -> 258 | G25: =IF(F25=0,"",F25/$L25) -> 0.29351536 | H25: =SUM(H21:H24) -> 69 | I25: =IF(H25=0,"",H25/$L25) -> 0.078498294 | L25: =B25+D25+F25+H25+J25 -> 879 | M25: =IF(L15=L25,"","Đối chiếu lại tổng số ở bảng xếp loại hạnh kiểm")
I27: ='Hướng dẫn'!C17 -> Tiên Phước, ngày 12 tháng 01 năm 2026
B28: NGƯỜI LẬP BẢNG | I28: HIỆU TRƯỞNG
B34: ='Hướng dẫn'!C15 -> Lê Thị Hồng Vinh | I34: ='Hướng dẫn'!C16 -> Phạm Thị Túy Lanh

Sheet RL+HT DTTS
A1: SỞ GIÁO DỤC VÀ ĐÀO TẠO | F1: CỘNG HÒA XÃ HỘI CHỦ NGHĨA VIỆT NAM
A2: ='1. Tình hình'!A2:C2 -> Trường THCS Lý Tự Trọng | F2: Độc lập - Tự do - Hạnh phúc
C3: =========== | F3: ====================
C4: ="NĂM HỌC "&'Hướng dẫn'!C14 -> NĂM HỌC 2025-2026
A6: II. Thống kê chất lượng của học sinh dân tộc thiểu số:
A7: II.1. Kết quả rèn luyện:
B9: Khối lớp | C9: Tốt | E9: Khá | G9: Đạt | I9: Chưa đạt | L9: Tổng số HS
C10: Số HS | D10: % | E10: Số HS | F10: % | G10: Số HS | H10: % | I10: Số HS | J10: %
B11: 6 | C11: 0 | D11: =IF(C11="","",C11/$L11) -> #DIV/0! | E11: 0 | F11: =IF(E11="","",E11/$L11) -> #DIV/0! | G11: 0 | H11: =IF(G11="","",G11/$L11) -> #DIV/0! | I11: 0 | J11: =IF(I11="","",I11/$L11) -> #DIV/0! | L11: =C11+E11+G11+I11 -> 0
B12: 7 | C12: 0 | D12: =IF(C12="","",C12/$L12) -> #DIV/0! | E12: 0 | F12: =IF(E12="","",E12/$L12) -> #DIV/0! | G12: 0 | H12: =IF(G12="","",G12/$L12) -> #DIV/0! | I12: 0 | J12: =IF(I12="","",I12/$L12) -> #DIV/0! | L12: =C12+E12+G12+I12 -> 0
B13: 8 | C13: 1 | D13: =IF(C13="","",C13/$L13) -> 1 | E13: 0 | F13: =IF(E13="","",E13/$L13) -> 0 | G13: 0 | H13: =IF(G13="","",G13/$L13) -> 0 | I13: 0 | J13: =IF(I13="","",I13/$L13) -> 0 | L13: =C13+E13+G13+I13 -> 1
B14: 9 | C14: 0 | D14: =IF(C14="","",C14/$L14) -> #DIV/0! | E14: 0 | F14: =IF(E14="","",E14/$L14) -> #DIV/0! | G14: 0 | H14: =IF(G14="","",G14/$L14) -> #DIV/0! | I14: 0 | J14: =IF(I14="","",I14/$L14) -> #DIV/0! | L14: =C14+E14+G14+I14 -> 0
B15: Toàn trường | C15: =SUM(C11:C14) -> 1 | D15: =IF(C15=0,"",C15/$L15) -> 1 | E15: =SUM(E11:E14) -> 0 | F15: =IF(E15=0,"",E15/$L15) | G15: =SUM(G11:G14) -> 0 | H15: =IF(G15=0,"",G15/$L15) | I15: =SUM(I11:I14) -> 0 | J15: =IF(I15=0,"",I15/$L15) | L15: =C15+E15+G15+I15 -> 1
A17: II.2. Kết quả học tập:
A19: Khối lớp | B19: Tốt | D19: Khá | F19: Đạt | H19: Chưa đạt | L19: Tổng số HS
B20: Số HS | C20: % | D20: Số HS | E20: % | F20: Số HS | G20: % | H20: Số HS | I20: %
A21: 6 | B21: 0 | C21: =IF(B21="","",B21/$L21) -> #DIV/0! | D21: 0 | E21: =IF(D21="","",D21/$L21) -> #DIV/0! | F21: 0 | G21: =IF(F21="","",F21/$L21) -> #DIV/0! | H21: 0 | I21: =IF(H21="","",H21/$L21) -> #DIV/0! | L21: =B21+D21+F21+H21+J21 -> 0 | M21: =IF(L11=L21,"","Đối chiếu lại tổng số ở bảng xếp loại hạnh kiểm")
A22: 7 | B22: 0 | C22: =IF(B22="","",B22/$L22) -> #DIV/0! | D22: 0 | E22: =IF(D22="","",D22/$L22) -> #DIV/0! | F22: 0 | G22: =IF(F22="","",F22/$L22) -> #DIV/0! | H22: 0 | I22: =IF(H22="","",H22/$L22) -> #DIV/0! | L22: =B22+D22+F22+H22+J22 -> 0 | M22: =IF(L12=L22,"","Đối chiếu lại tổng số ở bảng xếp loại hạnh kiểm")
A23: 8 | B23: 1 | C23: =IF(B23="","",B23/$L23) -> 1 | D23: 0 | E23: =IF(D23="","",D23/$L23) -> 0 | F23: 0 | G23: =IF(F23="","",F23/$L23) -> 0 | H23: 0 | I23: =IF(H23="","",H23/$L23) -> 0 | L23: =B23+D23+F23+H23+J23 -> 1 | M23: =IF(L13=L23,"","Đối chiếu lại tổng số ở bảng xếp loại hạnh kiểm")
A24: 9 | B24: 0 | C24: =IF(B24="","",B24/$L24) -> #DIV/0! | D24: 0 | E24: =IF(D24="","",D24/$L24) -> #DIV/0! | F24: 0 | G24: =IF(F24="","",F24/$L24) -> #DIV/0! | H24: 0 | I24: =IF(H24="","",H24/$L24) -> #DIV/0! | L24: =B24+D24+F24+H24+J24 -> 0 | M24: =IF(L14=L24,"","Đối chiếu lại tổng số ở bảng xếp loại hạnh kiểm")
A25: Toàn trường | B25: =SUM(B21:B24) -> 1 | C25: =IF(B25=0,"",B25/$L25) -> 1 | D25: =SUM(D21:D24) -> 0 | E25: =IF(D25=0,"",D25/$L25) | F25: =SUM(F21:F24) -> 0 | G25: =IF(F25=0,"",F25/$L25) | H25: =SUM(H21:H24) -> 0 | I25: =IF(H25=0,"",H25/$L25) | L25: =B25+D25+F25+H25+J25 -> 1 | M25: =IF(L15=L25,"","Đối chiếu lại tổng số ở bảng xếp loại hạnh kiểm")
I27: ='Hướng dẫn'!C17 -> Tiên Phước, ngày 12 tháng 01 năm 2026
B28: NGƯỜI LẬP BẢNG | I28: HIỆU TRƯỞNG
B34: ='Hướng dẫn'!C15 -> Lê Thị Hồng Vinh | I34: ='Hướng dẫn'!C16 -> Phạm Thị Túy Lanh

Sheet RL+HT Khuyết tật
A1: SỞ GIÁO DỤC VÀ ĐÀO TẠO | F1: CỘNG HÒA XÃ HỘI CHỦ NGHĨA VIỆT NAM
A2: ='1. Tình hình'!A2:C2 -> Trường THCS Lý Tự Trọng | F2: Độc lập - Tự do - Hạnh phúc
C3: =========== | F3: ====================
C4: ="NĂM HỌC "&'Hướng dẫn'!C14 -> NĂM HỌC 2025-2026
A6: II. Thống kê chất lượng của học sinh khuyết tật:
A7: II.1. Kết quả rèn luyện:
B9: Khối lớp | C9: Tốt | E9: Khá | G9: Đạt | I9: Chưa đạt | L9: Tổng số HS
C10: Số HS | D10: % | E10: Số HS | F10: % | G10: Số HS | H10: % | I10: Số HS | J10: %
B11: 6 | C11: 5 | D11: =IF(C11="","",C11/$L11) -> 1 | E11: 0 | F11: =IF(E11="","",E11/$L11) -> 0 | G11: 0 | H11: =IF(G11="","",G11/$L11) -> 0 | I11: 0 | J11: =IF(I11="","",I11/$L11) -> 0 | L11: =C11+E11+G11+I11 -> 5
B12: 7 | C12: 6 | D12: =IF(C12="","",C12/$L12) -> 1 | E12: 0 | F12: =IF(E12="","",E12/$L12) -> 0 | G12: 0 | H12: =IF(G12="","",G12/$L12) -> 0 | I12: 0 | J12: =IF(I12="","",I12/$L12) -> 0 | L12: =C12+E12+G12+I12 -> 6
B13: 8 | C13: 4 | D13: =IF(C13="","",C13/$L13) -> 1 | E13: 0 | F13: =IF(E13="","",E13/$L13) -> 0 | G13: 0 | H13: =IF(G13="","",G13/$L13) -> 0 | I13: 0 | J13: =IF(I13="","",I13/$L13) -> 0 | L13: =C13+E13+G13+I13 -> 4
B14: 9 | C14: 4 | D14: =IF(C14="","",C14/$L14) -> 1 | E14: 0 | F14: =IF(E14="","",E14/$L14) -> 0 | G14: 0 | H14: =IF(G14="","",G14/$L14) -> 0 | I14: 0 | J14: =IF(I14="","",I14/$L14) -> 0 | L14: =C14+E14+G14+I14 -> 4 | T14: ,,,
B15: Toàn trường | C15: =SUM(C11:C14) -> 19 | D15: =IF(C15=0,"",C15/$L15) -> 1 | E15: =SUM(E11:E14) -> 0 | F15: =IF(E15=0,"",E15/$L15) | G15: =SUM(G11:G14) -> 0 | H15: =IF(G15=0,"",G15/$L15) | I15: =SUM(I11:I14) -> 0 | J15: =IF(I15=0,"",I15/$L15) | L15: =C15+E15+G15+I15 -> 19
A17: II.2. Kết quả học tập:
A19: Khối lớp | B19: Tốt | D19: Khá | F19: Đạt | H19: Chưa đạt | L19: Tổng số HS
B20: Số HS | C20: % | D20: Số HS | E20: % | F20: Số HS | G20: % | H20: Số HS | I20: %
A21: 6 | B21: 0 | C21: =IF(B21="","",B21/$L21) -> 0 | D21: 2 | E21: =IF(D21="","",D21/$L21) -> 0.4 | F21: 1 | G21: =IF(F21="","",F21/$L21) -> 0.2 | H21: 2 | I21: =IF(H21="","",H21/$L21) -> 0.4 | L21: =B21+D21+F21+H21+J21 -> 5 | M21: =IF(L11=L21,"","Đối chiếu lại tổng số ở bảng xếp loại hạnh kiểm")
A22: 7 | B22: 1 | C22: =IF(B22="","",B22/$L22) -> 0.16666667 | D22: 1 | E22: =IF(D22="","",D22/$L22) -> 0.16666667 | F22: 4 | G22: =IF(F22="","",F22/$L22) -> 0.66666667 | H22: 0 | I22: =IF(H22="","",H22/$L22) -> 0 | L22: =B22+D22+F22+H22+J22 -> 6 | M22: =IF(L12=L22,"","Đối chiếu lại tổng số ở bảng xếp loại hạnh kiểm")
A23: 8 | B23: 0 | C23: =IF(B23="","",B23/$L23) -> 0 | D23: 2 | E23: =IF(D23="","",D23/$L23) -> 0.5 | F23: 1 | G23: =IF(F23="","",F23/$L23) -> 0.25 | H23: 1 | I23: =IF(H23="","",H23/$L23) -> 0.25 | L23: =B23+D23+F23+H23+J23 -> 4 | M23: =IF(L13=L23,"","Đối chiếu lại tổng số ở bảng xếp loại hạnh kiểm")
A24: 9 | B24: 0 | C24: =IF(B24="","",B24/$L24) -> 0 | D24: 2 | E24: =IF(D24="","",D24/$L24) -> 0.5 | F24: 2 | G24: =IF(F24="","",F24/$L24) -> 0.5 | H24: 0 | I24: =IF(H24="","",H24/$L24) -> 0 | L24: =B24+D24+F24+H24+J24 -> 4 | M24: =IF(L14=L24,"","Đối chiếu lại tổng số ở bảng xếp loại hạnh kiểm")
A25: Toàn trường | B25: =SUM(B21:B24) -> 1 | C25: =IF(B25=0,"",B25/$L25) -> 0.052631579 | D25: =SUM(D21:D24) -> 7 | E25: =IF(D25=0,"",D25/$L25) -> 0.36842105 | F25: =SUM(F21:F24) -> 8 | G25: =IF(F25=0,"",F25/$L25) -> 0.42105263 | H25: =SUM(H21:H24) -> 3 | I25: =IF(H25=0,"",H25/$L25) -> 0.15789474 | L25: =B25+D25+F25+H25+J25 -> 19 | M25: =IF(L15=L25,"","Đối chiếu lại tổng số ở bảng xếp loại hạnh kiểm")
I27: ='Hướng dẫn'!C17 -> Tiên Phước, ngày 12 tháng 01 năm 2026
B28: NGƯỜI LẬP BẢNG | I28: HIỆU TRƯỞNG
B34: ='Hướng dẫn'!C15 -> Lê Thị Hồng Vinh | I34: ='Hướng dẫn'!C16 -> Phạm Thị Túy Lanh

Sheet TK-Điểm KT
A1: ='1. Tình hình'!A1 -> ỦY BAN NHÂN DÂN XÃ TIÊN PHƯỚC | H1: CỘNG HÒA XÃ HỘI CHỦ NGHĨA VIỆT NAM
A2: ='1. Tình hình'!A2 -> Trường THCS Lý Tự Trọng | H2: Độc lập - Tự do - Hạnh phúc
A3: ============= | H3: ====================
A5: ="THỐNG KÊ CHẤT LƯỢNG BÀI KIỂM TRA CUỐI KỲ I NĂM HỌC "&'Hướng dẫn'!C14 -> THỐNG KÊ CHẤT LƯỢNG BÀI KIỂM TRA CUỐI KỲ I NĂM HỌC 2025-2026
A6: Lớp 9
A8: TT | B8: Các môn KT | C8: TSHS dự Kiểm tra | D8: Điểm = 0 | F8: 0<Điểm <2 | H8: 2≤Điểm<4 | J8: 4≤Điểm<5 | L8: 5≤Điểm<7 | N8: 7≤Điểm<8 | P8: 8≤Điểm<10 | R8: Điểm = 10 | T8: Trên TB
D9: SL | E9: TL% | F9: SL | G9: TL% | H9: SL | I9: TL% | J9: SL | K9: TL% | L9: SL | M9: TL% | N9: SL | O9: TL% | P9: SL | Q9: TL% | R9: SL | S9: TL% | T9: SL | U9: TL%
A10: 1 | B10: Toán | C10: =D10+F10+H10+J10+L10+N10+P10+R10 -> 201 | D10: 0 | E10: =IF($C10=0,"",D10/$C10) -> 0 | F10: 2 | G10: =IF($C10=0,"",F10/$C10) -> 0.0099502488 | H10: 25 | I10: =IF($C10=0,"",H10/$C10) -> 0.12437811 | J10: 29 | K10: =IF($C10=0,"",J10/$C10) -> 0.14427861 | L10: 56 | M10: =IF($C10=0,"",L10/$C10) -> 0.27860697 | N10: 19 | O10: =IF($C10=0,"",N10/$C10) -> 0.094527363 | P10: 69 | Q10: =IF($C10=0,"",P10/$C10) -> 0.34328358 | R10: 1 | S10: =IF($C10=0,"",R10/$C10) -> 0.0049751244 | T10: =SUM(L10,N10,P10,R10) -> 145 | U10: =IF($C10=0,"",T10/$C10) -> 0.72139303
A11: 2 | B11: Văn | C11: =D11+F11+H11+J11+L11+N11+P11+R11 -> 201 | D11: 0 | E11: =IF($C11=0,"",D11/$C11) -> 0 | F11: 11 | G11: =IF($C11=0,"",F11/$C11) -> 0.054726368 | H11: 36 | I11: =IF($C11=0,"",H11/$C11) -> 0.17910448 | J11: 17 | K11: =IF($C11=0,"",J11/$C11) -> 0.084577114 | L11: 103 | M11: =IF($C11=0,"",L11/$C11) -> 0.51243781 | N11: 27 | O11: =IF($C11=0,"",N11/$C11) -> 0.13432836 | P11: 7 | Q11: =IF($C11=0,"",P11/$C11) -> 0.034825871 | R11: 0 | S11: =IF($C11=0,"",R11/$C11) -> 0 | T11: =SUM(L11,N11,P11,R11) -> 137 | U11: =IF($C11=0,"",T11/$C11) -> 0.68159204
A12: 3 | B12: Tiếng Anh | C12: =D12+F12+H12+J12+L12+N12+P12+R12 -> 201 | D12: 0 | E12: =IF($C12=0,"",D12/$C12) -> 0 | F12: 0 | G12: =IF($C12=0,"",F12/$C12) -> 0 | H12: 5 | I12: =IF($C12=0,"",H12/$C12) -> 0.024875622 | J12: 11 | K12: =IF($C12=0,"",J12/$C12) -> 0.054726368 | L12: 75 | M12: =IF($C12=0,"",L12/$C12) -> 0.37313433 | N12: 34 | O12: =IF($C12=0,"",N12/$C12) -> 0.16915423 | P12: 75 | Q12: =IF($C12=0,"",P12/$C12) -> 0.37313433 | R12: 1 | S12: =IF($C12=0,"",R12/$C12) -> 0.0049751244 | T12: =SUM(L12,N12,P12,R12) -> 185 | U12: =IF($C12=0,"",T12/$C12) -> 0.92039801
A13: TỔNG CỘNG | C13: =IF(SUM(C10:C12)=0,"",SUM(C10:C12)) -> 603 | D13: =IF(SUM(D10:D12)=0,"",SUM(D10:D12)) | E13: =IF(D13="","",D13/$C13) | F13: =IF(SUM(F10:F12)=0,"",SUM(F10:F12)) -> 13 | G13: =IF(F13="","",F13/$C13) -> 0.021558872 | H13: =IF(SUM(H10:H12)=0,"",SUM(H10:H12)) -> 66 | I13: =IF(H13="","",H13/$C13) -> 0.10945274 | J13: =IF(SUM(J10:J12)=0,"",SUM(J10:J12)) -> 57 | K13: =IF(J13="","",J13/$C13) -> 0.094527363 | L13: =IF(SUM(L10:L12)=0,"",SUM(L10:L12)) -> 234 | M13: =IF(L13="","",L13/$C13) -> 0.3880597 | N13: =IF(SUM(N10:N12)=0,"",SUM(N10:N12)) -> 80 | O13: =IF(N13="","",N13/$C13) -> 0.13266998 | P13: =IF(SUM(P10:P12)=0,"",SUM(P10:P12)) -> 151 | Q13: =IF(P13="","",P13/$C13) -> 0.25041459 | R13: =IF(SUM(R10:R12)=0,"",SUM(R10:R12)) -> 2 | S13: =IF(R13="","",R13/$C13) -> 0.0033167496 | T13: =IF(SUM(T10:T12)=0,"",SUM(T10:T12)) -> 467 | U13: =IF(T13="","",T13/$C13) -> 0.77446103
Q14: ='Hướng dẫn'!C17 -> Tiên Phước, ngày 12 tháng 01 năm 2026
C15: NGƯỜI LẬP BẢNG | Q15: HIỆU TRƯỞNG
C22: ='Hướng dẫn'!C15 -> Lê Thị Hồng Vinh | Q22: ='Hướng dẫn'!C16 -> Phạm Thị Túy Lanh

Sheet trường chuẩn
A2: TRƯỜNG CHUẨN QUỐC GIA (Tính đến tháng 12/2025)
A4: TT | B4: Tỉnh, thành phố | C4: THPT
C5: Đạt chuẩn Quốc gia | D5: Năm đạt chuẩn Quốc gia | E5: Ghi chú
A8: 1 | B8: ='Hướng dẫn'!C12 -> Trường THCS Lý Tự Trọng | C8: Mức 2 | D8: 46136
